BEGIN:VCALENDAR
VERSION:2.0
PRODID:-//The Feminist Art Project - ECPv6.15.20//NONSGML v1.0//EN
CALSCALE:GREGORIAN
METHOD:PUBLISH
X-WR-CALNAME:The Feminist Art Project
X-ORIGINAL-URL:https://thefeministartproject.org
X-WR-CALDESC:Events for The Feminist Art Project
REFRESH-INTERVAL;VALUE=DURATION:PT1H
X-Robots-Tag:noindex
X-PUBLISHED-TTL:PT1H
BEGIN:VTIMEZONE
TZID:America/New_York
BEGIN:DAYLIGHT
TZOFFSETFROM:-0500
TZOFFSETTO:-0400
TZNAME:EDT
DTSTART:20250309T070000
END:DAYLIGHT
BEGIN:STANDARD
TZOFFSETFROM:-0400
TZOFFSETTO:-0500
TZNAME:EST
DTSTART:20251102T060000
END:STANDARD
BEGIN:DAYLIGHT
TZOFFSETFROM:-0500
TZOFFSETTO:-0400
TZNAME:EDT
DTSTART:20260308T070000
END:DAYLIGHT
BEGIN:STANDARD
TZOFFSETFROM:-0400
TZOFFSETTO:-0500
TZNAME:EST
DTSTART:20261101T060000
END:STANDARD
BEGIN:DAYLIGHT
TZOFFSETFROM:-0500
TZOFFSETTO:-0400
TZNAME:EDT
DTSTART:20270314T070000
END:DAYLIGHT
BEGIN:STANDARD
TZOFFSETFROM:-0400
TZOFFSETTO:-0500
TZNAME:EST
DTSTART:20271107T060000
END:STANDARD
END:VTIMEZONE
BEGIN:VEVENT
DTSTART;TZID=America/New_York:20260425T140000
DTEND;TZID=America/New_York:20260530T160000
DTSTAMP:20260419T154834
CREATED:20260419T141553Z
LAST-MODIFIED:20260419T141553Z
UID:10001344-1777125600-1780156800@thefeministartproject.org
SUMMARY:JAZ GRAF - IMMANENT FRAY
DESCRIPTION:IMMANENT FRAY\nNew Multi-Layered Paper Pulp Artworks by JAZ GRAF\nApril 25th – May 30th\, 2026 \nOpening reception 2pm-4pm on Saturday\, April 25th\, 2026. \nThe artist will be in attendance. Please RSVP to info@mortonfineart.com\nMorton Fine Art\, 52 O St NW #302\, Washington\, D.C. 20001 \nContact the gallery for viewing Tuesday – Saturday by appointment\, price list\, additional information and acquisition. \n(202) 628-2787 (call or text)\nwww.mortonfineart.com\ninfo@mortonfineart.com \nIMMANENT FRAY \nA state of fray captures that in-between moment when possibility is becoming and certainty unwinds. This body of work is a deeper look at\, into and across the raw edges of things. Under a magnified lens\, paper appears as a complex\, interconnected web of fibers. Poetically\, Thich Nhat Hanh described this as interbeing. I explore relationalities through material such as mulberry fiber\, silk\, and worn sacred cloth\, engaging with the cultural narratives they embody. Cloth that has been worn by people can speak to subtle sensory worlds\, steep us in symbolism or stories of the past\, ushering forth new rituals. Taking form as dendritic extensions\, stitching motifs\, veils of pulp\, or imperceptible orange specks of fabric\, edges converge to become more than the sum of their parts. The intertwining network is a transitional zone\, a dynamic interfacing between matter and metaphysical epistemologies. All edges are flows of fray. Impermanence as no arrival of home\, yet emergence\, ever-present.\n~Jaz Graf
URL:https://thefeministartproject.org/event/jaz-graf-immanent-fray/
LOCATION:Morton Fine Art\, 52 O St NW #302\, Washington\, DC\, 20001\, United States
CATEGORIES:Exhibition
ATTACH;FMTTYPE=image/jpeg:https://thefeministartproject.org/wp-content/uploads/2026/04/JAZGRAF-BuoyantRoots-scaled-e1776608137364.jpg
END:VEVENT
END:VCALENDAR