BEGIN:VCALENDAR
VERSION:2.0
PRODID:-//The Feminist Art Project - ECPv6.15.20//NONSGML v1.0//EN
CALSCALE:GREGORIAN
METHOD:PUBLISH
X-WR-CALNAME:The Feminist Art Project
X-ORIGINAL-URL:https://thefeministartproject.org
X-WR-CALDESC:Events for The Feminist Art Project
REFRESH-INTERVAL;VALUE=DURATION:PT1H
X-Robots-Tag:noindex
X-PUBLISHED-TTL:PT1H
BEGIN:VTIMEZONE
TZID:America/New_York
BEGIN:DAYLIGHT
TZOFFSETFROM:-0500
TZOFFSETTO:-0400
TZNAME:EDT
DTSTART:20230312T070000
END:DAYLIGHT
BEGIN:STANDARD
TZOFFSETFROM:-0400
TZOFFSETTO:-0500
TZNAME:EST
DTSTART:20231105T060000
END:STANDARD
BEGIN:DAYLIGHT
TZOFFSETFROM:-0500
TZOFFSETTO:-0400
TZNAME:EDT
DTSTART:20240310T070000
END:DAYLIGHT
BEGIN:STANDARD
TZOFFSETFROM:-0400
TZOFFSETTO:-0500
TZNAME:EST
DTSTART:20241103T060000
END:STANDARD
BEGIN:DAYLIGHT
TZOFFSETFROM:-0500
TZOFFSETTO:-0400
TZNAME:EDT
DTSTART:20250309T070000
END:DAYLIGHT
BEGIN:STANDARD
TZOFFSETFROM:-0400
TZOFFSETTO:-0500
TZNAME:EST
DTSTART:20251102T060000
END:STANDARD
END:VTIMEZONE
BEGIN:VEVENT
DTSTART;TZID=America/New_York:20240917T120000
DTEND;TZID=America/New_York:20241013T190000
DTSTAMP:20260421T044939
CREATED:20241012T111130Z
LAST-MODIFIED:20241012T111130Z
UID:10000389-1726574400-1728846000@thefeministartproject.org
SUMMARY:Llegaremos todas al mar / We will all reach the sea
DESCRIPTION:Paintings by Pamela Zubillaga\n\n\nPamela Zubillaga’s artwork reveals in a very natural way the complex and often invisible intergenerational relations between women in a clan. Her paintings capture intimate and silent moments\, which show both the weight and the beauty of these connections. From that intimacy\, she seeks to explore the generational loyalty that has united the women of her family. Zubillaga reconstructs a reality that makes color a vibrant and evocative language of identity\, a tool that reveals the links\, the hierarchies\, the secrets.\n\nFrom September 17th to October 13th\n\nvenue and organizer: AGUAFUERTE Galería\nMéxico City\n\naguafuertegaleria.com
URL:https://thefeministartproject.org/event/llegaremos-todas-al-mar-we-will-all-reach-the-sea/
LOCATION:AGUAFUERTE Galería\, Guanajuato 118\, Roma Nte.\, Cuauhtémoc\, 06700 Ciudad de México\, CDMX\, Mexico\, Mexico City\, Mexico
CATEGORIES:Exhibition
ATTACH;FMTTYPE=image/jpeg:https://thefeministartproject.org/wp-content/uploads/2024/10/Llegaremos-todas-al-mar-we-will-all-reach-the-sea-e1729345535524.jpg
END:VEVENT
END:VCALENDAR