BEGIN:VCALENDAR
VERSION:2.0
PRODID:-//The Feminist Art Project - ECPv6.15.20//NONSGML v1.0//EN
CALSCALE:GREGORIAN
METHOD:PUBLISH
X-ORIGINAL-URL:https://thefeministartproject.org
X-WR-CALDESC:Events for The Feminist Art Project
REFRESH-INTERVAL;VALUE=DURATION:PT1H
X-Robots-Tag:noindex
X-PUBLISHED-TTL:PT1H
BEGIN:VTIMEZONE
TZID:America/New_York
BEGIN:DAYLIGHT
TZOFFSETFROM:-0500
TZOFFSETTO:-0400
TZNAME:EDT
DTSTART:20230312T070000
END:DAYLIGHT
BEGIN:STANDARD
TZOFFSETFROM:-0400
TZOFFSETTO:-0500
TZNAME:EST
DTSTART:20231105T060000
END:STANDARD
BEGIN:DAYLIGHT
TZOFFSETFROM:-0500
TZOFFSETTO:-0400
TZNAME:EDT
DTSTART:20240310T070000
END:DAYLIGHT
BEGIN:STANDARD
TZOFFSETFROM:-0400
TZOFFSETTO:-0500
TZNAME:EST
DTSTART:20241103T060000
END:STANDARD
BEGIN:DAYLIGHT
TZOFFSETFROM:-0500
TZOFFSETTO:-0400
TZNAME:EDT
DTSTART:20250309T070000
END:DAYLIGHT
BEGIN:STANDARD
TZOFFSETFROM:-0400
TZOFFSETTO:-0500
TZNAME:EST
DTSTART:20251102T060000
END:STANDARD
END:VTIMEZONE
BEGIN:VTIMEZONE
TZID:America/Puerto_Rico
BEGIN:STANDARD
TZOFFSETFROM:-0400
TZOFFSETTO:-0400
TZNAME:AST
DTSTART:20230101T000000
END:STANDARD
END:VTIMEZONE
BEGIN:VTIMEZONE
TZID:America/Los_Angeles
BEGIN:DAYLIGHT
TZOFFSETFROM:-0800
TZOFFSETTO:-0700
TZNAME:PDT
DTSTART:20230312T100000
END:DAYLIGHT
BEGIN:STANDARD
TZOFFSETFROM:-0700
TZOFFSETTO:-0800
TZNAME:PST
DTSTART:20231105T090000
END:STANDARD
BEGIN:DAYLIGHT
TZOFFSETFROM:-0800
TZOFFSETTO:-0700
TZNAME:PDT
DTSTART:20240310T100000
END:DAYLIGHT
BEGIN:STANDARD
TZOFFSETFROM:-0700
TZOFFSETTO:-0800
TZNAME:PST
DTSTART:20241103T090000
END:STANDARD
BEGIN:DAYLIGHT
TZOFFSETFROM:-0800
TZOFFSETTO:-0700
TZNAME:PDT
DTSTART:20250309T100000
END:DAYLIGHT
BEGIN:STANDARD
TZOFFSETFROM:-0700
TZOFFSETTO:-0800
TZNAME:PST
DTSTART:20251102T090000
END:STANDARD
END:VTIMEZONE
BEGIN:VEVENT
DTSTART;TZID=America/New_York:20240201T000000
DTEND;TZID=America/New_York:20241214T235900
DTSTAMP:20260423T165538
CREATED:20240314T192214Z
LAST-MODIFIED:20241019T133125Z
UID:10000002-1706745600-1734220740@thefeministartproject.org
SUMMARY:Kinship: The Art of Connection
DESCRIPTION:Women Eco Artists Dialog (WEAD) online magazine  Issue No.14 – Kinship: The Art of Connection\nEdited by Connie Tell and Donna Brookman \n Inter-Connection/ Sustenance & Healing  Cecilia Vicuña\n Community and Kin Builders  Christine and Margaret Wertheim\n Collective Memory and Displacement  Nazanin Noroozi\n Cross-Cultural Kinship  Rina Banerjee\n Spiritual Connectivity  Chiyomi Taneike Longo\nKinship: Guest Editors  Connie Tell and Donna Brookman \nWEAD Mission Statement:\nFocusing on women’s unique perspectives we collaborate internationally to further the field and understanding of ecological and social justice art. \n\nPurpose: To provide information regarding the ecoart and social justice art fields to artists\, curators\, writers\, art and public art administrators\, educators in art and ecology\, cross-disciplinary professionals and others.To facilitate international networking among artists working with ecological and social justice issues.To further the fields of\, and the understanding of environmental and social justice art.
URL:https://thefeministartproject.org/event/kinship-the-art-of-connection/
LOCATION:DC
CATEGORIES:Publication
ATTACH;FMTTYPE=image/jpeg:https://thefeministartproject.org/wp-content/uploads/2024/03/WEAD-MAG-Cover-Collage-final-copy-e1711113193436.jpeg
ORGANIZER;CN="Women Eco Artists Dialog":MAILTO:info@weadartists.org
END:VEVENT
BEGIN:VEVENT
DTSTART;TZID=America/New_York:20240405T080000
DTEND;TZID=America/New_York:20241130T170000
DTSTAMP:20260423T165538
CREATED:20240405T133945Z
LAST-MODIFIED:20241019T132947Z
UID:10000009-1712304000-1732986000@thefeministartproject.org
SUMMARY:The 6000 Circles Project
DESCRIPTION:We are The Calling. Our latest collaboration\, The 6000 Circles Project\, focuses on the circle as a symbol of balance and unity\, a never ending container of feminine energy and light. We are envisioning 6000 circles; created by a multitude of artists\, of all genders\, from around the globe\, both groups and individuals\, gathering and making for a series of interactive public and digital installations.\nThe initial inspiration came from the Obliteration Room created by Yayoi Kusama\, where people were invited to place circle stickers spontaneously throughout the exhibition space\, thereby creating an interactive and evolving installation. We would like to build upon this concept based on The Calling’s previous interactive installation as part of the Feminine Journey exhibition at the Beseder Gallery in Prague 2022. The intention is to expand its scope and reach to be a fully inclusive collaboration that honors all aspects of the feminine.
URL:https://thefeministartproject.org/event/the-6000-circles-project/
LOCATION:DC
CATEGORIES:Open Call/Exhibitions
ATTACH;FMTTYPE=image/png:https://thefeministartproject.org/wp-content/uploads/2024/04/6000-circles-project-logo-e1729344476864.png
END:VEVENT
BEGIN:VEVENT
DTSTART;TZID=America/New_York:20240508T090000
DTEND;TZID=America/New_York:20241208T170000
DTSTAMP:20260423T165538
CREATED:20240508T184128Z
LAST-MODIFIED:20241019T133216Z
UID:10000380-1715158800-1733677200@thefeministartproject.org
SUMMARY:Rejoinder Issue 9: The Archival is Political
DESCRIPTION:The theme of Rejoinder Issue 9 is “The Archival is Political.” Guest edited by Alexandra Southgate (Temple). Contributors include: Joshua G. Adair\, Christoffer Koch Andersen\, Victoria Bailey\, Linda Bond\, Vero Carchedi\, Farrah Cato\, Kim Hoeckele\, Georgia-Taygeti Katakou\, Apala Kundu\, Christina Maraboutaki\, Janée Moses\, Christine Stoddard\, Lisa Lampert-Weissig\, and Cinnamon Williams. Rejoinder is an online journal featuring work at the intersection of scholarship and activism that reflects feminist/queer and social justice perspectives. Rejoinder is currently published once a year\, each spring. Rejoinder is a publication of the Institute for Research on Women (IRW) at Rutgers University in partnership with The Feminist Art Project.
URL:https://thefeministartproject.org/event/rejoinder-issue-9-the-archival-is-political/
LOCATION:Online
CATEGORIES:Publication
ATTACH;FMTTYPE=image/jpeg:https://thefeministartproject.org/wp-content/uploads/2024/05/Rejoinder-9.jpg
END:VEVENT
BEGIN:VEVENT
DTSTART;TZID=America/New_York:20240927T080000
DTEND;TZID=America/New_York:20241106T170000
DTSTAMP:20260423T165538
CREATED:20241005T134112Z
LAST-MODIFIED:20241019T132701Z
UID:10000382-1727424000-1730912400@thefeministartproject.org
SUMMARY:Black\, Femme\, Queer\, Here
DESCRIPTION:This exhibition of images shines a light on the lives and legacies of Black\, femme\, & queer people from right here in Kentucky. From the fiery performances of Toni LaFlame to the downtown strolls of Sweet Evening Breeze\, these individuals have played a crucial role in making Lexington a safer space for the LGBTQ+ community. \nSome of these images were collected through Facebook posts and messages from members of Lexington’s queer community while most are from the collections of the Faulkner Morgan Archive. FMA shares Kentucky’s lesbian\, gay\, bisexual\, trans\, and queer history. Founded in 2014\, they are dedicated to telling Kentucky’s LGBTQ story. The Faulkner Morgan Archive currently houses 15\,000 items and more than 250 hours of recorded interviews. Their collections span 200 years of history\, representing individuals\, events\, and institutions across Kentucky’s diverse LGBTQ spectrum\, creating a rich resource for activists\, scholars\, artists\, and museums. You can help them continue to preserve stories like this by visiting faulknermorgan.org. \nThis project is continuing to expand\, so if you have any images\, stories\, or history that you would like to share\, please reach out! Send any information you have on Black\, femme\, & queer Kentuckians to josh@itsjoshporter.com.
URL:https://thefeministartproject.org/event/black-femme-queer-here/
LOCATION:Lexington\, KY
CATEGORIES:Exhibition
ATTACH;FMTTYPE=image/jpeg:https://thefeministartproject.org/wp-content/uploads/2024/10/TonyLaFlameDerbymid-1980s31-e1729344415830.jpg
END:VEVENT
BEGIN:VEVENT
DTSTART;TZID=America/Puerto_Rico:20241017T190000
DTEND;TZID=America/Puerto_Rico:20250315T170000
DTSTAMP:20260423T165538
CREATED:20241019T132528Z
LAST-MODIFIED:20241024T193104Z
UID:10000393-1729191600-1742058000@thefeministartproject.org
SUMMARY:DIVERSE. Poetics of Nature.
DESCRIPTION:“Diverse. Poetics of Nature is an exhibition that reveals my enormous admiration and respect for nature\, for its intuitive and spontaneous frankness. In times when everything tends to be the result of a construction: images\, what we say\, perceptions… the only thing that remains real and true\, is nature.” \n Jeannette Betancourt
URL:https://thefeministartproject.org/event/diverse-poetics-of-nature/
LOCATION:Universidad Ana G. Méndez – Recinto de Gurabo\, 6XRV+Q6H\, Rio Grande Road\, Juncos\, Gurabo 00777\, Puerto Rico\, Gurabo\, Puerto Rico
CATEGORIES:Artist Talk,Exhibition
ATTACH;FMTTYPE=image/jpeg:https://thefeministartproject.org/wp-content/uploads/2024/10/jb-expo-e1729344321660.jpeg
ORGANIZER;CN="Museum of the Ana G. Mendez University":MAILTO:museo-gu@uagm.edu
END:VEVENT
BEGIN:VEVENT
DTSTART;TZID=America/New_York:20241031T180000
DTEND;TZID=America/New_York:20241201T170000
DTSTAMP:20260423T165538
CREATED:20241129T143949Z
LAST-MODIFIED:20241129T144137Z
UID:10000404-1730397600-1733072400@thefeministartproject.org
SUMMARY:DOMESTIC. video art exhibition
DESCRIPTION:”State policies and law regulations regarding women’s rights in the territories of the former Eastern Bloc maintained a conservative view of the role of women in society\, despite equal rights and formal opportunities. This generated social norms and prejudices still maintained today and contributed to the one-way association of women with the domestic space. ln the idea of the imprint of an aesthetic and some issues specific to these territories\, but also some nuanced differences\, Domestic brings together several narratives from Romania\, Serbia and Croatia at the intersection of video art and short film. Discourses invite us to dive deep into the idea of domestic in contemporary societies\, both as a physical and as a mental space\, observing the social pressure\, the dynamics of gender roles and the relationship between private and public life.\nThis vision focused exclusively on artistic practices in the sphere of the dynamic image makes it possible to outline a durational analytical perspective in order to launch an updated debate on the concept of domesticity regarding gender roles and identities\, domestic work and motherhood\, reproductive rights and responsibility\, domestic violence\, care\, autonomy and dependence and intersectionality. The project raises awareness on aspects of women’s lives that are often invisible in the public space\, such as depression and anxiety\, with the aim of emphasizing the importance of social integration of psycho-emotional dimensions such as vulnerability\, shame\, sadness and empathy. The domestic space can be a source of trauma\, an environment of comfort and recovery\, a territory of identity deconstruction and reconstruction\, a place of honesty and intimacy\, of uncomfortable confrontations and of mirroring social norms. This project joins the efforts of understanding the current context of women’s rights and equal opportunities in Romania and in other Eastern European countries from the nuanced perspective of the relationship with the present\, the historical and the political past and the mentalities\, bringing up narratives that record the impact of domestic life on women.” (curatorial statement by Olivia Nitis)
URL:https://thefeministartproject.org/event/domestic-video-art-exhibition/
LOCATION:Artep Gallery\, Soseaua Sararie nr. 15\, IASI\, Romania
CATEGORIES:Exhibition
ATTACH;FMTTYPE=image/jpeg:https://thefeministartproject.org/wp-content/uploads/2024/11/Domestic-AfisWeb-scaled-e1732891287977.jpg
ORGANIZER;CN="Artep Gallery Association":MAILTO:priveste@artep.ro
END:VEVENT
BEGIN:VEVENT
DTSTART;TZID=America/Los_Angeles:20241109T170000
DTEND;TZID=America/Los_Angeles:20241109T190000
DTSTAMP:20260423T165538
CREATED:20241019T131650Z
LAST-MODIFIED:20241019T132323Z
UID:10000387-1731171600-1731178800@thefeministartproject.org
SUMMARY:Perfectly Imperfect. International Group Show  | Opening Reception
DESCRIPTION:The Imperfecta Art & Design Gallery is pleased to present Perfectly Imperfect\, a group art show that features 27 artists based in the US\, UK\, Italy\, Spain\, Chile and Mexico. \nOn view from November 9th to the 31st\, the show features new original artworks by women artists Ágata Pérez\, Alexis Marcie Bomarito\, Amelia Johannsen\, Arianna Gazca\, Bea Garth\, Bernadette Fox\, Daria Loi\, Deborah Donelson\, Francesca Dalla Benetta\, Francesca Loi\, Holly de Saillan\, Jacqueline Myers-Cho\, Kate Reed\, Laura Pedrini\, Linda Tarr\, Mimma Scarpini\, Natasha Martinovic\, Rosa Henriquez\, Ruth Meijer\, Sage Kemmerlin\, Sena Clara Creston\, Sandra Alderman\, Sue Schaefer\, Strauss-McQueen\, Wynter Jones\, Zarod Rominski and Zexuan Jia. \nArtists were challenged to explore notions of imperfection and the beauty of imperfect uniqueness by creating monochromatic artworks in any medium. The 27 artworks on show include oil and acrylic paintings\, ceramic art\, art dolls\, bronze sculptures\, multimedia art\, mixed media art\, fiber art\, ink and pencil drawings and photography. \nParticipating artists Strauss-McQueen (a collaboration between Keith McQueen and Maxfield Strauss) state that “imperfection is the rest state of humanity” and “perfection is a mirage — and yet\, as humans we aspire with amusing naivety to this unattainable plane.” Their piece\, entitled Per[fiction]\, poetically demonstrates this paradox. \nCeramist Linda Tarr\, who created a standing tonal percussion instrument to celebrate imperfection\, reflects: “To assume imperfection enables risk. To notice and then be curious about the gifts of materials acting out their own character\, and accept outcomes that are unintended develops a kind of humble dignity.” \nArt doll maker Zexuan Jia created a cat that is “attempting to sew herself back together” to reflect on a painful experience using an “unserious tone\, because it is perfectly fine to be flawed and damaged as long as you still try to pull everything together even if you’re imperfect at fixing it all.” \nMultimedia artist Arianna Gazca leveraged a dark blue-gray color scheme to express the “feeling of emptiness\, of uncertainty\, and of ominous ambiguity” associated with notions of imperfection. Her moving images “blend and layer on top of one another to emphasize running thoughts and levels of anxiety” and the audio accompaniment “provides a looped effect to exemplify a moment of replaying a previous event in one’s head.” \nIn her acrylic on canvas piece\, Kate Reed explored “how even a person who is “perfect” can often only see their own perceived imperfections” and with her piece titled “Origins”\, Natasha Martinovic depicts “the moment of acceptance of oneself and one’s imperfections as a sign of individuality and self-knowledge.” \nThe above statements are but a small sample of the powerful stories and interpretations of what imperfection may mean and represent. As participating artist Amelia Johannsen well puts it: “In a world driven by ideals of perfection\, I find beauty in the flaws and irregularities that nature presents. Imperfections are not failures; they are marks of life\, evidence of growth\, resilience\, and adaptation.” \nThe show debuts on November 9 with an Opening Reception from 5 to 7pm and runs through November 31. \nAbout Imperfecta Art & Design Gallery\nimperfecta is an art & design gallery focused on elevating the work and voices of women artists and minority creatives.\nlocation: 117 6th street\, Oregon City OR 97045 USA\nweb: http://www.imperfecta.xyz
URL:https://thefeministartproject.org/event/perfectly-imperfect-international-group-show-opening-reception/
LOCATION:imperfecta\, 117 6th street\, Oregon City\, OR\, 97045\, United States
CATEGORIES:Exhibition
ATTACH;FMTTYPE=image/png:https://thefeministartproject.org/wp-content/uploads/2024/10/perfectly-imperfect-square-e1729344191997.png
ORGANIZER;CN="imperfecta":MAILTO:imperfecta@studioloi.xyz
END:VEVENT
END:VCALENDAR