BEGIN:VCALENDAR
VERSION:2.0
PRODID:-//The Feminist Art Project - ECPv6.15.20//NONSGML v1.0//EN
CALSCALE:GREGORIAN
METHOD:PUBLISH
X-WR-CALNAME:The Feminist Art Project
X-ORIGINAL-URL:https://thefeministartproject.org
X-WR-CALDESC:Events for The Feminist Art Project
REFRESH-INTERVAL;VALUE=DURATION:PT1H
X-Robots-Tag:noindex
X-PUBLISHED-TTL:PT1H
BEGIN:VTIMEZONE
TZID:America/Puerto_Rico
BEGIN:STANDARD
TZOFFSETFROM:-0400
TZOFFSETTO:-0400
TZNAME:AST
DTSTART:20230101T000000
END:STANDARD
END:VTIMEZONE
BEGIN:VTIMEZONE
TZID:America/New_York
BEGIN:DAYLIGHT
TZOFFSETFROM:-0500
TZOFFSETTO:-0400
TZNAME:EDT
DTSTART:20240310T070000
END:DAYLIGHT
BEGIN:STANDARD
TZOFFSETFROM:-0400
TZOFFSETTO:-0500
TZNAME:EST
DTSTART:20241103T060000
END:STANDARD
BEGIN:DAYLIGHT
TZOFFSETFROM:-0500
TZOFFSETTO:-0400
TZNAME:EDT
DTSTART:20250309T070000
END:DAYLIGHT
BEGIN:STANDARD
TZOFFSETFROM:-0400
TZOFFSETTO:-0500
TZNAME:EST
DTSTART:20251102T060000
END:STANDARD
BEGIN:DAYLIGHT
TZOFFSETFROM:-0500
TZOFFSETTO:-0400
TZNAME:EDT
DTSTART:20260308T070000
END:DAYLIGHT
BEGIN:STANDARD
TZOFFSETFROM:-0400
TZOFFSETTO:-0500
TZNAME:EST
DTSTART:20261101T060000
END:STANDARD
END:VTIMEZONE
BEGIN:VEVENT
DTSTART;TZID=America/Puerto_Rico:20241017T190000
DTEND;TZID=America/Puerto_Rico:20250315T170000
DTSTAMP:20260423T042257
CREATED:20241019T132528Z
LAST-MODIFIED:20241024T193104Z
UID:10000393-1729191600-1742058000@thefeministartproject.org
SUMMARY:DIVERSE. Poetics of Nature.
DESCRIPTION:“Diverse. Poetics of Nature is an exhibition that reveals my enormous admiration and respect for nature\, for its intuitive and spontaneous frankness. In times when everything tends to be the result of a construction: images\, what we say\, perceptions… the only thing that remains real and true\, is nature.” \n Jeannette Betancourt
URL:https://thefeministartproject.org/event/diverse-poetics-of-nature/
LOCATION:Universidad Ana G. Méndez – Recinto de Gurabo\, 6XRV+Q6H\, Rio Grande Road\, Juncos\, Gurabo 00777\, Puerto Rico\, Gurabo\, Puerto Rico
CATEGORIES:Artist Talk,Exhibition
ATTACH;FMTTYPE=image/jpeg:https://thefeministartproject.org/wp-content/uploads/2024/10/jb-expo-e1729344321660.jpeg
ORGANIZER;CN="Museum of the Ana G. Mendez University":MAILTO:museo-gu@uagm.edu
END:VEVENT
BEGIN:VEVENT
DTSTART;TZID=America/New_York:20250123T180000
DTEND;TZID=America/New_York:20250307T170000
DTSTAMP:20260423T042257
CREATED:20250202T155434Z
LAST-MODIFIED:20250202T155434Z
UID:10000790-1737655200-1741366800@thefeministartproject.org
SUMMARY:Tacit Knowledge:  Paper as Practice in the Dieu Donné West Bay View Foundation Fellowship Program
DESCRIPTION:Tacit Knowledge:\nPaper as Practice in the Dieu Donné West Bay View Foundation Fellowship Program\nJanuary 23 – March 7\, 2025 \nEFA Studios\n323 West 39th St.\, New York\, NY\, 3rd Floor\nHours: Tue–Fri\, 12–5 pm \nAnna Hendrick Karpatkin Benjamin\nKatharine L. DeLamater\nCandy Alexandra González\nJaz Graf\nLauren Krukowski\nSR Lejeune\nAnela Ming-Yue Oh \nCurated by Eliana Blechman \nContemporary papermaking draws on generations of knowledge about fibers\, waters\, and motions of the body. There is ritual in the processes of preparing pulp\, pulling sheets\, and pressing and drying paper between or upon boards. The practice of papermaking is learned as much through an inherent\, tacit understanding within the body as it is through overt instruction. Working with pulp is a tactile exercise – one through which artists imbue meaning and history into their materials and art. \nTacit Knowledge celebrates seven years of Dieu Donné’s West Bay View Foundation Fellowship\, an immersive studio mentorship for emerging papermakers to expand and enrich their artistic practices at Dieu Donné’s papermaking studios in Brooklyn\, NY. Artists and papermakers Anna Hendrick Karpatkin Benjamin\, Katharine L. DeLamater\, Candy Alexandra González\, Jaz Graf\, Lauren Krukowski\, SR Lejeune\, and Anela Ming-Yue Oh each spent three to six months in the Dieu Donné papermaking studios\, fully immersing themselves in the art of papermaking\, supporting artists and projects coming through the studio\, and learning to hone their techniques and develop their own practices. Their fellowships culminated in dedicated professional studio days for each artist to each create new bodies of artwork in handmade paper. Their resulting artworks pull from personal\, social\, and historical experience\, and explore ritual\, identity\, heritage\, and environment\, mining both inherited and privatized forms of knowledge. \nFor all press inquiries\, please contact Emma Hill at ehill@dieudonne.org. \nFor more info please visit:  https://www.studios-efanyc.org/exhibitions \n 
URL:https://thefeministartproject.org/event/tacit-knowledge-paper-as-practice-in-the-dieu-donne-west-bay-view-foundation-fellowship-program/
LOCATION:Elizabeth Foundation for the Arts\, EFA Studios - 323 West 39th St.\, 3rd Floor\, New York\, NY\, 10018\, United States
CATEGORIES:Exhibition
ATTACH;FMTTYPE=image/jpeg:https://thefeministartproject.org/wp-content/uploads/2025/02/GRAF_Jaz-firemanuscript-e1738511662831.jpeg
END:VEVENT
BEGIN:VEVENT
DTSTART;TZID=America/New_York:20250312T130000
DTEND;TZID=America/New_York:20250322T160000
DTSTAMP:20260423T042257
CREATED:20250321T144003Z
LAST-MODIFIED:20250321T144222Z
UID:10000797-1741784400-1742659200@thefeministartproject.org
SUMMARY:(UN)censored
DESCRIPTION:ARTISTS FIGHT BACK AFTER CANCELLATION OF ART EXHIBIT AT UN HEADQUARTERS\nCommunity rallies around women’s rights exhibition; now open in Brooklyn as a symbol of resistance\nExhibition title: “(UN)censored”\n630 Flushing Ave\, Brooklyn\, NY \nOpening hours – RSVP required: artefleur@gmail.com\nMarch 12\, 1-3:30pm\nMarch 13\, 1-3:30pm\nMarch 19\, 1-4pm\nMarch 20\, 1-4pm\nMarch 22\, 11am-4pm (before the public reception) \nCLOSING RECEPTION: March 22\, 4-8pm \nNew York\, NY – March 2\, 2025 – Just weeks before its scheduled debut at United Nations Headquarters\, “Rules\, Responsibilities\, Restraints: Women’s Pursuit of Equity\,” an exhibition about women’s labor and rights—was unexpectedly stripped of its previously secured endorsement from the European Union Delegation. This was not a financial sponsorship\, but an official endorsement—a necessary requirement for the exhibition to be shown at UNHQ. Without this backing\, the exhibition\, which was meant to be displayed in the highly visible UNHQ Visitors’ Lobby\, was shut down. “This decision takes away a chance to bring global attention to human rights\, artistic expression\, and freedom of speech\,” says Sawyer Rose\, an artist with works in this exhibit. \nWith their UNHQ exhibition silenced\, Rose and Fleur Spolidor\, a French artist with paintings in the exhibition\, raced to find a new venue in New York City—at the very moment these conversations should have been front and center. Refusing to let their work be censored\, the community rallied behind Spolidor and Rose to make sure the exhibition found a platform where it could be seen and heard. In response to the situation\, they have rebranded the exhibition as “(UN)censored\,” a powerful statement against the suppression of free speech and challenging artistic work. \nThe exhibition\, featuring work by American sculptor Rose (The Carrying Stones Project) and French painter Spolidor (The Swimsuits Series)\, was set to open alongside the 69th session of the Commission on the Status of Women (CSW69) and the 30th anniversary of the Beijing Declaration on women’s rights—a moment meant to celebrate progress toward gender equity. Yet\, in a striking contradiction\, the EU Delegation pulled its endorsement just two weeks before opening\, citing the ‘challenging global context.’ \n“It’s getting harder to have honest conversations about equity and human rights\,” Rose says. “If even an exhibition about women’s labor and rights is considered too risky\, that tells you everything. These are exactly the kinds of discussions we should be putting front and center\, not shutting down.” \n“This is beyond frustrating\,” Spolidor says. “Nothing about our exhibition has changed since it was first approved. We spent years planning this\, got our endorsement\, followed every rule—then\, at the last minute\, it’s pulled. This isn’t just about our work being canceled; it’s about who gets to have a voice in these spaces. If art can’t challenge people\, what is it for?” \n——————————\nThe Bigger Picture: Art\, Politics\, and Free Expression\nThe artists are also calling on journalists\, arts organizations\, and advocacy groups to help amplify this story and raise awareness about the growing restrictions on artistic expression in today’s political climate. With the NEA directing more 2025 grant funding toward projects celebrating the nation’s 250th anniversary\, and recent shifts in the Kennedy Center for Performing Arts’ board under the current administration\, the arts are increasingly being shaped by political influence. \nThese developments highlight a troubling trend: the narrowing of creative spaces where freedom of speech and artistic expression can thrive. \n“The cancellation of this exhibition is part of a much larger fight for artistic freedom\,” Spolidor says. “When art that challenges the status quo is silenced\, it’s not just the artists who lose—it’s all of us.” \n—————————— \nHow You Can Help \nPress & Media: Journalists interested in covering this story can contact us for interviews\, images\, and additional details. \nAdvocacy & Outreach: If you work with a museum\, nonprofit\, or advocacy group that supports artistic freedom\, we’d love to connect. \nFor all inquiries\, contact:\nsawyer@sawyerrose.com  |  415-806-2458\nMore information: artforwomensequity.com\n\n——————————\n\nAbout the Team \nFleur Spolidor is a French painter whose work explores themes of women’s rights\, its history\, and cultural representations. The Swimsuits Series is a visual representation of the surreal challenges that women face in society. \nSawyer Rose is an American sculptor and activist recognized for The Carrying Stones Project\, a body of work that blends sculpture with data visualization to highlight the disproportionate labor burdens placed on women. \nKaren M. Gutfreund is the Curatorial Producer of “(UN)censored.” An artist and curator with a focus on “Art as Activism.” Gutfreund has created more than forty-five national exhibitions with self-identified women artists\, on feminist and social justice themes.
URL:https://thefeministartproject.org/event/uncensored/
LOCATION:630 Flushing Ave\, Brooklyn\, NY\, 630 Flushing Ave.\, Brooklyn\, 11206\, United States
CATEGORIES:Exhibition
ATTACH;FMTTYPE=image/jpeg:https://thefeministartproject.org/wp-content/uploads/2025/03/IG-Sawyer-5-e1742567648850.jpg
END:VEVENT
BEGIN:VEVENT
DTSTART;TZID=America/New_York:20250314T103000
DTEND;TZID=America/New_York:20250429T180000
DTSTAMP:20260423T042257
CREATED:20250324T210540Z
LAST-MODIFIED:20250324T210540Z
UID:10000799-1741948200-1745949600@thefeministartproject.org
SUMMARY:Divergence of Three:  Exhibiting Artists Marcie Gill-Kinast\, Kelly Nicola Chiovitti\, and Priscilla Roggenkamp
DESCRIPTION:In a variety of media that includes drawing\, painting\, collage\, gouache\, fiber art\, painting\, and collography\, three artists are coming together to create an exhibit that unifies with serendipity on themes of nature\, fascination\, and protection. \nMarcie Gill-Kinast says\, “In this series\, all elements originate in natural forms\, but become more intensified\, morphing in shape\, scale and color. Thought and spirit create an unexpected grammar of expression. This ongoing series is\, at its essence\, rooted in the power of nature over man. Technically\, this also provides an opportunity to experiment with and expand on color relationships and theory. I have found that gouaches gives me a great deal of flexibility in this exploration as well as providing me with a less toxic work environment while figuratively exploring the different toxicities that exist in our world. \nKelly Nicola Chiovitti’s artwork is centered on capturing the wild and untamed qualities of nature\, with a particular focus on the delicate shapes of flowers. Through her drawings\, she explores the intricate lines and textures found in the natural world\, expressing her belief that beauty can be found in even the smallest and most overlooked details. Working primarily with graphite and ink pens\, Kelly’s style brings a sense of simplicity and appreciation to the natural forms she studies. Sustainability is a key principle in Kelly’s practice. \nPriscilla Roggenkamp says\, “Textiles are my ‘jam’ so to speak. As an art material they are ripe with content. They reflect our collective experience of wearing\, touching\, and desiring cloth. Clothing denotes personhood\, and labor status. It calls to our memories\, and oh so many things about ourselves and our culture. Aesthetically textiles speak of the tactile\, the sensual and the sculptural.” Roggenkamp’s work touches on themes of mythical stories\, identity\, relations to our planet\, immigration\, and family. \nJoin us to look closely at this intricate exhibit. \nMonday – Friday 10am ish – 6pm\nSaturday 11am – 3pm\nClosed first Saturday of the month\nClosed on Sundays
URL:https://thefeministartproject.org/event/divergence-of-three-exhibiting-artists-marcie-gill-kinast-kelly-nicola-chiovitti-and-priscilla-roggenkamp/
LOCATION:Cyrus Custom Framing\, 2645 Cleveland Avenue NW\, Canton\, OH\, 44709\, United States
CATEGORIES:Exhibition
ATTACH;FMTTYPE=image/png:https://thefeministartproject.org/wp-content/uploads/2025/03/Divergence-of-Three-e1742850330596.png
END:VEVENT
BEGIN:VEVENT
DTSTART;VALUE=DATE:20250319
DTEND;VALUE=DATE:20250525
DTSTAMP:20260423T042257
CREATED:20250321T120126Z
LAST-MODIFIED:20250321T120126Z
UID:10000796-1742342400-1748131199@thefeministartproject.org
SUMMARY:CALL AND RESPONSE:  "As a woman artist\, I..."
DESCRIPTION:All women artists are encouraged to answer the question\, “As a woman artist\, I…”\nResponses will be displayed at Legendary: An Exhibition of Women Artists\, at The Stacy C. Sherwood Center\, Fairfax\, Virginia\, from May 25\, 2025\, until August 30\, 2025. \nThis call and response prompt can be found online at:\nhttps://www.debrawrightstudio.com/as-a-woman-artist-i
URL:https://thefeministartproject.org/event/call-and-response-as-a-woman-artist-i/
LOCATION:The Stacy C. Sherwood Center\, 3740 Blenheim Blvd\, Fairfax\, VA\, 22030
CATEGORIES:Symposium
ATTACH;FMTTYPE=image/png:https://thefeministartproject.org/wp-content/uploads/2025/03/As-a-woman-artist-I-e1742558473456.png
ORGANIZER;CN="Debra Wright%2C The Rogue Art Project":MAILTO:info@debrawrightstudio.com
END:VEVENT
BEGIN:VEVENT
DTSTART;TZID=America/New_York:20250319T083000
DTEND;TZID=America/New_York:20250330T180000
DTSTAMP:20260423T042257
CREATED:20250314T191822Z
LAST-MODIFIED:20250314T191822Z
UID:10000794-1742373000-1743357600@thefeministartproject.org
SUMMARY:Beyond Smiles: Tackling Dental Health Care Access When Facing Intimate Partner Violence (IPV)
DESCRIPTION:We are proud to support the “Beyond Smiles” project and art exhibition.\n\n\nEventbrite link: https://www.eventbrite.ca/…/beyond-smiles-tackling…\n\n\nArt workshop facilitated by Feminist Art Collective residency artist Hemangi Shroff & research exhibition curated by Feminist Art Collective founder Ilene Sova.\n\n\nBeyond Smiles: Tackling Dental Health Care Access When Facing Intimate Partner Violence (IPV)\n\n\nThis event is all about addressing the challenges of accessing dental health care when dealing with intimate partner violence.\nIntimate partner violence is a major public health issue in Canada. It disproportionately affects racialized women who face increased obstacles in accessing care. A University of Toronto study explored these challenges from the viewpoints of women with lived experience of violence and service providers. This event will discuss opportunities for improving access to necessary supports\, including actionable change in dental care delivery\, and feature self-portraits by the women who participated in the study.\n\n\nJoin us at OCAD U – 100 McCaul St – on March 27th to learn from experts in the field and connect with others who are passionate about improving access to dental care for those facing IPV. This event is free and open to all. Don’t miss out on this opportunity to learn more!\n\n\nThe art exhibit is opened from March 19th-March30th 2025 at the OCADU Ada Slaight Gallery.\nMCA Gallery Hours:\nMonday to Friday: 7:30 AM to 12:00 AM (Card swipe from 8pm to Midnight)\nSaturday: 8:30 AM to 6:00 PM\nSunday: 12:00PM to12:00AM (Card swipe from 8pm to Midnight)
URL:https://thefeministartproject.org/event/beyond-smiles-tackling-dental-health-care-access-when-facing-intimate-partner-violence-ipv/
LOCATION:OCAD U\, 100 Mccaul Street\, Toronto\, ON\, M5T 1W1\, Canada
CATEGORIES:Exhibition
ATTACH;FMTTYPE=image/jpeg:https://thefeministartproject.org/wp-content/uploads/2025/03/483852635_1073773444795194_1591535125898376037_n-e1741979892836.jpg
ORGANIZER;CN="FAC":MAILTO:torontofac@gmaill.com
END:VEVENT
BEGIN:VEVENT
DTSTART;TZID=America/New_York:20250328T100000
DTEND;TZID=America/New_York:20250328T110000
DTSTAMP:20260423T042257
CREATED:20250308T151203Z
LAST-MODIFIED:20250308T151356Z
UID:10000793-1743156000-1743159600@thefeministartproject.org
SUMMARY:Virtual Program: Affrilachian Freedom Dreaming: Honoring Dr. Ancella Bickley
DESCRIPTION:West Virginia University (WVU) Art in the Libraries’ Inaugural WVU Feminist Activist Artist Residency program presents artist Catron Booker and her project\, “Affrilachian Freedom Dreaming: Honoring Dr. Ancella Bickley.”\nJoin Art in the Libraries and WVU Libraries on Friday\, March 28 at 10 a.m. via zoom to hear from Booker about her experience as the first WVU Feminist Activist Artist Resident\, her process and inspiration for exploring the Dr. Ancella Bickley archives in the West Virginia & Regional History Center and her resulting artistic product\, a short film honoring Bickley.\nCatron Booker\, a Black feminist experimental filmmaker and performance artist\, uses Afrofuturism to envision Black liberation. During the Feminist Activist Collection Artist in Residency (FAIR)\, she will create Affrilachian Freedom Dreaming\, a short experimental film exploring Black resistance through the Dr. Ancella Bickley archival collection of the West Virginia and Regional History Center Feminist Activist Collection. Dr. Ancella Bickley (born 1930\, Huntington\, WV) is a historian\, educator\, and author known for preserving and documenting the history of Black communities in West Virginia\, with a focus on oral histories\, genealogy\, and the contributions of overlooked Black scholars and activists. Inspired by Bickley’s focus on overlooked “community builders\,” Booker will interweave archival materials with footage of the Ohio River\, a historically significant landmark in Louisville. The project examines the river as both a visual metaphor and a site of historical continuity. As part of the residency\, she plans a film screening and community discussion\, potentially including a conversation on Bickley’s work.\nTo register: https://wvu.libcal.com/calendar/events/FAIR\nMore on the event: Art in the Libraries to host feminist activist artist to wrap inaugural residency program | Ex Libris Magazine | West Virginia University\nMore on Catron Booker: https://catronbooker.tumblr.com/\nMore on the Feminist Activist Artist in Residency Program: https://exhibits.lib.wvu.edu/special-projects/artist-in-residency\n\nQuestions: Email WVU Libraries Curator Sally Brown\, sally.brown1@mail.wvu.edu.
URL:https://thefeministartproject.org/event/virtual-program-affrilachian-freedom-dreaming-honoring-dr-ancella-bickley/
LOCATION:DC
CATEGORIES:Artist Talk,Film Screening
ATTACH;FMTTYPE=image/png:https://thefeministartproject.org/wp-content/uploads/2025/03/FAIR-Resident-Pres_8-x-11-in-e1741446704325.png
ORGANIZER;CN="west virginia university libraries":MAILTO:sally.brown1@mail.wvu.edu
END:VEVENT
END:VCALENDAR