BEGIN:VCALENDAR
VERSION:2.0
PRODID:-//The Feminist Art Project - ECPv6.15.20//NONSGML v1.0//EN
CALSCALE:GREGORIAN
METHOD:PUBLISH
X-WR-CALNAME:The Feminist Art Project
X-ORIGINAL-URL:https://thefeministartproject.org
X-WR-CALDESC:Events for The Feminist Art Project
REFRESH-INTERVAL;VALUE=DURATION:PT1H
X-Robots-Tag:noindex
X-PUBLISHED-TTL:PT1H
BEGIN:VTIMEZONE
TZID:America/New_York
BEGIN:DAYLIGHT
TZOFFSETFROM:-0500
TZOFFSETTO:-0400
TZNAME:EDT
DTSTART:20230312T070000
END:DAYLIGHT
BEGIN:STANDARD
TZOFFSETFROM:-0400
TZOFFSETTO:-0500
TZNAME:EST
DTSTART:20231105T060000
END:STANDARD
BEGIN:DAYLIGHT
TZOFFSETFROM:-0500
TZOFFSETTO:-0400
TZNAME:EDT
DTSTART:20240310T070000
END:DAYLIGHT
BEGIN:STANDARD
TZOFFSETFROM:-0400
TZOFFSETTO:-0500
TZNAME:EST
DTSTART:20241103T060000
END:STANDARD
BEGIN:DAYLIGHT
TZOFFSETFROM:-0500
TZOFFSETTO:-0400
TZNAME:EDT
DTSTART:20250309T070000
END:DAYLIGHT
BEGIN:STANDARD
TZOFFSETFROM:-0400
TZOFFSETTO:-0500
TZNAME:EST
DTSTART:20251102T060000
END:STANDARD
END:VTIMEZONE
BEGIN:VEVENT
DTSTART;TZID=America/New_York:20240318T080000
DTEND;TZID=America/New_York:20240513T235900
DTSTAMP:20260425T234657
CREATED:20240405T124631Z
LAST-MODIFIED:20240405T125325Z
UID:10000008-1710748800-1715644740@thefeministartproject.org
SUMMARY:Open Call: Vote for Democracy
DESCRIPTION:SaveArtSpace has partnered with Michele Pred to bring more public art to Milwaukee\, WI during the Republican National Convention\, starting June 24\, 2024. \nCurated by Michele Pred\, this billboard art exhibition featuring five billboards in Milwaukee\, Wisconsin\, coinciding with the Republican National Convention\, which is scheduled for July 15th to 18th. The billboards will be installed prior to the convention on June 24th and remain until July 22nd\, a few days after its close. \nThe overarching theme of the exhibit is the “preservation of democracy.” Autocracy and the reactionary\, racist ideas that go with it are on the march in the US and across the globe. They are given voice almost daily by the leader of the Republican Party and his minions\, even as the majority of Americans oppose their policies. To stop this surge of fear and hate\, we must make sure that our system does not devolve further. Only then can we continue the fight for an expanded democracy. Inviting persuadable voters to this conversation on one of the largest media stages of the year is a huge opportunity to do just that. \nThe selection process will focus not only on the artistic merits of the work but also on the clarity of the message and its potential to influence moderately conservative voters to support candidates and issues that expand reproductive rights. To this end\, incorporating text is encouraged but not required. \nWe invite artists of all ages and talents to submit their artwork between March 18 and May 13\, 2024. This is an opportunity to have your work placed on billboard ad space in Milwaukee\, WI. Three artists will be chosen from the open call\, they will join Michele Pred\, and Lena Wolff on billboards throughout Milwaukee\, WI. \nOpen call for art ends May 13\, 2024. There is a $10 donation per image submission to participate\, each donation is tax deductible and goes to producing the public art. Selected artists will be announced after May 27\, 2024. Public art will be installed June 24\, 2024 in New York City.
URL:https://thefeministartproject.org/event/open-call-vote-for-democracy/
LOCATION:Milwaukee\, Wisconsin
CATEGORIES:Open Call/Exhibitions
ATTACH;FMTTYPE=image/jpeg:https://thefeministartproject.org/wp-content/uploads/2024/04/VoteforDemocracycallforartists-web-e1712321461692.jpg
END:VEVENT
BEGIN:VEVENT
DTSTART;TZID=America/New_York:20240405T080000
DTEND;TZID=America/New_York:20241130T170000
DTSTAMP:20260425T234657
CREATED:20240405T133945Z
LAST-MODIFIED:20241019T132947Z
UID:10000009-1712304000-1732986000@thefeministartproject.org
SUMMARY:The 6000 Circles Project
DESCRIPTION:We are The Calling. Our latest collaboration\, The 6000 Circles Project\, focuses on the circle as a symbol of balance and unity\, a never ending container of feminine energy and light. We are envisioning 6000 circles; created by a multitude of artists\, of all genders\, from around the globe\, both groups and individuals\, gathering and making for a series of interactive public and digital installations.\nThe initial inspiration came from the Obliteration Room created by Yayoi Kusama\, where people were invited to place circle stickers spontaneously throughout the exhibition space\, thereby creating an interactive and evolving installation. We would like to build upon this concept based on The Calling’s previous interactive installation as part of the Feminine Journey exhibition at the Beseder Gallery in Prague 2022. The intention is to expand its scope and reach to be a fully inclusive collaboration that honors all aspects of the feminine.
URL:https://thefeministartproject.org/event/the-6000-circles-project/
CATEGORIES:Open Call/Exhibitions
ATTACH;FMTTYPE=image/png:https://thefeministartproject.org/wp-content/uploads/2024/04/6000-circles-project-logo-e1729344476864.png
END:VEVENT
END:VCALENDAR