BEGIN:VCALENDAR
VERSION:2.0
PRODID:-//The Feminist Art Project - ECPv6.15.20//NONSGML v1.0//EN
CALSCALE:GREGORIAN
METHOD:PUBLISH
X-WR-CALNAME:The Feminist Art Project
X-ORIGINAL-URL:https://thefeministartproject.org
X-WR-CALDESC:Events for The Feminist Art Project
REFRESH-INTERVAL;VALUE=DURATION:PT1H
X-Robots-Tag:noindex
X-PUBLISHED-TTL:PT1H
BEGIN:VTIMEZONE
TZID:America/New_York
BEGIN:DAYLIGHT
TZOFFSETFROM:-0500
TZOFFSETTO:-0400
TZNAME:EDT
DTSTART:20230312T070000
END:DAYLIGHT
BEGIN:STANDARD
TZOFFSETFROM:-0400
TZOFFSETTO:-0500
TZNAME:EST
DTSTART:20231105T060000
END:STANDARD
BEGIN:DAYLIGHT
TZOFFSETFROM:-0500
TZOFFSETTO:-0400
TZNAME:EDT
DTSTART:20240310T070000
END:DAYLIGHT
BEGIN:STANDARD
TZOFFSETFROM:-0400
TZOFFSETTO:-0500
TZNAME:EST
DTSTART:20241103T060000
END:STANDARD
BEGIN:DAYLIGHT
TZOFFSETFROM:-0500
TZOFFSETTO:-0400
TZNAME:EDT
DTSTART:20250309T070000
END:DAYLIGHT
BEGIN:STANDARD
TZOFFSETFROM:-0400
TZOFFSETTO:-0500
TZNAME:EST
DTSTART:20251102T060000
END:STANDARD
BEGIN:DAYLIGHT
TZOFFSETFROM:-0500
TZOFFSETTO:-0400
TZNAME:EDT
DTSTART:20260308T070000
END:DAYLIGHT
BEGIN:STANDARD
TZOFFSETFROM:-0400
TZOFFSETTO:-0500
TZNAME:EST
DTSTART:20261101T060000
END:STANDARD
BEGIN:DAYLIGHT
TZOFFSETFROM:-0500
TZOFFSETTO:-0400
TZNAME:EDT
DTSTART:20270314T070000
END:DAYLIGHT
BEGIN:STANDARD
TZOFFSETFROM:-0400
TZOFFSETTO:-0500
TZNAME:EST
DTSTART:20271107T060000
END:STANDARD
END:VTIMEZONE
BEGIN:VEVENT
DTSTART;TZID=America/New_York:20251126T000000
DTEND;TZID=America/New_York:20260115T000000
DTSTAMP:20260421T061033
CREATED:20251202T215457Z
LAST-MODIFIED:20251202T215457Z
UID:10000822-1764115200-1768435200@thefeministartproject.org
SUMMARY:Rejoinder Open Call
DESCRIPTION:Rejoinder Open Call: Issue 11\nDEADLINE: January 15\, 2026 \nRitual\, Healing\, and World-Making \n\nHow do we mark transitions\, generate transformational visions\, and model alternate ways of being in a world imploding around us? How do we find joy while surrounded by brokenness?  How do we heal when systems are structured against us? What rituals or practices can restore us\, even speak to our souls? The next issue of Rejoinder explores the theme of ritual\, healing\, and world-making. Submissions (including essays\, commentary\, criticism\, fiction\, poetry\, and artwork) should address this theme from feminist\, queer\, and social justice-inspired perspectives. We particularly welcome contributions at the intersection of scholarship and activism. For manuscript preparation details\, please see our website at: http://irw.rutgers.edu/about-rejoinder. Rejoinder is published by the Institute for Research on Women at Rutgers University in partnership with the Feminist Art Project. Please send completed written work (2\,000-2\,500 words max — MS Word)\, jpegs of artwork\, and short bios to irw@sas.rutgers.edu with “Rejoinder Submission” in the subject line by January 15\, 2026.
URL:https://thefeministartproject.org/event/rejoinder-open-call-2/
CATEGORIES:Call for Papers/Presentations,Open Call/Exhibitions
ATTACH;FMTTYPE=image/png:https://thefeministartproject.org/wp-content/uploads/2025/12/IRW-2026-rejoinder.png
ORGANIZER;CN="Institute for Research on Women at Rutgers University":MAILTO:irw@sas.rutgers.edu
END:VEVENT
BEGIN:VEVENT
DTSTART;VALUE=DATE:20250806
DTEND;VALUE=DATE:20250830
DTSTAMP:20260421T061033
CREATED:20250808T211114Z
LAST-MODIFIED:20250808T211114Z
UID:10000812-1754438400-1756511999@thefeministartproject.org
SUMMARY:CFP: "Language and Text in Feminist Art Part III: East\, South-East\, and Central Asia\, Asian Diasporas" / CAA 2026 Annual Conference
DESCRIPTION:Seeking presentation proposals from art historians\, writers\, and artists. The CAA 114th Annual Conference will take place on February 18-21\, 2026 in Chicago. In order to allow and encourage participation of scholars and artists from Asia\, without the need to travel at great personal and ecological cost\, our session will convene remotely. On the CAA CFP page you can find the session abstract (also pasted in below)\, watch instructional video\, and click to upload your proposal: a 250-words-long abstract and a short bio. You can also include images. The deadline to apply is August 29. \nTHE SESSION ABSTRACT: \nLanguage and Text in Feminist Art Part III: East\, South-East\, and Central Asia\, Asian Diasporas \nThis session examines artworks exploring language from a gendered perspective—a subject that has lacked comprehensive treatment—to inspire new research in feminist art. It will analyze ways in which women (cis or queer) employ text and language as a means of feminist critique\, across art mediums. \nThere is a stubborn belief that feminist art focuses on the image of the body. Meanwhile\, the core of feminist art is conceptual and social practice; art that is designed not just to be looked at\, but also to be acted upon. Text- or language-based art—including what Hélène Cixous called écriture feminine—has been its crucial component as women probe their erasure from historical texts\, objectification in law\, the experience of speaking a language as racialized and sexualized subjects\, or the male-centrism of language\, including AI and the internet. \nThe session is the last in the series of three; part of broader research that seeks to fill a gap in literature about feminist language-based art by privileging transnational\, multigenerational\, and intersectional comparisons\, globally. The first session in 2024 provided a comparative perspective on the Middle East and North Africa; part II—on Latin America and the Caribbean. Part III in 2026 seeks scholarly analyses and artists’ presentations with a focus on the Far East\, Central Asia\, and Asian diasporas. Of equal interest are proposals regarding artists representing cultures where oral expression and poetry dominate the written\, and those engaging with ancient traditions of calligraphy and secret languages of women; both sound-based and text-based projects. \nChair: Monika Fabijanska
URL:https://thefeministartproject.org/event/cfp-language-and-text-in-feminist-art-part-iii-east-south-east-and-central-asia-asian-diasporas-caa-2026-annual-conference/
CATEGORIES:Call for Papers/Presentations
ATTACH;FMTTYPE=image/png:https://thefeministartproject.org/wp-content/uploads/2025/08/banner.png
END:VEVENT
BEGIN:VEVENT
DTSTART;TZID=America/New_York:20250801T080000
DTEND;TZID=America/New_York:20250829T170000
DTSTAMP:20260421T061033
CREATED:20250803T151624Z
LAST-MODIFIED:20250803T153626Z
UID:10000811-1754035200-1756486800@thefeministartproject.org
SUMMARY:Call for Proposals | TFAP@CAA 2026 Affiliated Society Session
DESCRIPTION:TFAP@CAA Call for Proposals\nCAA 114th Annual Conference\, Chicago\, February 18–21\, 2026 \nThe Feminist Art Project Affiliated Society Session\nDeadline: August 29\, 2025\nFeminist\, Queer\, and Trans Art Activists in Action! \nChairs:\nJoanna P. Gardner-Huggett\, DePaul University\nConnie Tell\, The Feminist Art Project \nPLEASE FOLLOW THESE INSTRUCTIONS TO SUBMIT YOUR PROPOSAL FOR THIS IN-PERSON PANEL.\nCAA MEMBERSHIP & CONFERENCE REGISTRATION REQUIRED FOR ACCEPTED PRESENTERS. \nImportant dates:\nAugust 29th\, deadline for proposal submissions\nSeptember 16th\, notification of accepted proposals \nFor nearly twenty years\, The Feminist Art Project has supported intersectional and inter-generational conversations regarding feminist\, queer and trans activist art practices. Understanding the rich history of these collective tactics remains instrumental for continued organizing against political oppression and providing essential services to female-identifying individuals. For instance\, in the 1970s\, the arpilleristas produced embroidered narratives denouncing Chile’s totalitarian regime\, while in the 1980s the Greenham Commons Women’s Peace Camp demanded an end to nuclear proliferation. In the 1990s\, Chicago’s Sister Serpents engaged in guerrilla sticker and poster campaigns calling out misogyny and sexual violence and the Dyke Action Machine focused on lesbian agitprop in New York City. In 1999\, the Dutch organization Women on Waves was founded to provide reproductive health services in regions where it is not safe or available\, and in 2001\, LaGender Inc. was established to support the trans health of women of color in the metro Atlanta area. As the voices of feminist\, queer\, and trans artists\, activists\, and scholars are being silenced in this political moment globally\, this session seeks presentations by artists and scholars examining current or historical examples of activist art practices that offer models of protest and mutual aid\, especially work overlooked in current art historical scholarship. \nThe CAA Annual Conference is the largest convening of art historians\, artists\, designers\, curators\, and visual arts professionals. Each year CAA offer sessions submitted by members\, committees\, and affiliated societies that deliver a wide range of program content. The CAA 114th Annual Conference will take place in Chicago Hilton February 18–21\, 2026.
URL:https://thefeministartproject.org/event/call-for-proposals-tfapcaa-2026-affiliated-society-session/
CATEGORIES:Call for Papers/Presentations
ATTACH;FMTTYPE=image/png:https://thefeministartproject.org/wp-content/uploads/2025/08/TFAP-AFF-CFP-2026-e1754235372437.png
END:VEVENT
BEGIN:VEVENT
DTSTART;TZID=America/New_York:20240522T080000
DTEND;TZID=America/New_York:20240731T235900
DTSTAMP:20260421T061033
CREATED:20240523T192455Z
LAST-MODIFIED:20240531T164402Z
UID:10000381-1716364800-1722470340@thefeministartproject.org
SUMMARY:TFAP@CAA 2025 | DOP Call for Proposals
DESCRIPTION:TFAP@CAA DAY OF PANELS 2025 | CALL FOR PROPOSALS\nDEADLINE: July 31\, 2024\nSend proposals to: tfap@nationalwca.org  \nThe CAA Annual Conference is the largest convening of art historians\, artists\, designers\, curators\, and visual arts professionals. Each year CAA offer sessions submitted by members\, committees\, and affiliated societies that deliver a wide range of program content. The CAA 113th Annual Conference will take place at the New York Hilton Midtown\, New York City\, February 12–15\, 2025.\nSince 2007\, the TFAP@CAA Day of Panels has brought together exceptional groups of artists\, art historians\, curators\, and critics for a free and open to the public symposium during the annual College Art Association (CAA) Conferences. The general public\, emerging and seasoned art professionals gain access to cutting edge work and ideas of artists\, curators\, performers and scholars\, up close and through a feminist lens.\n________________________________ \nThe Feminist Art Project is now accepting proposals for the 2025 Day of Panels in NYC. The Day of Panels will take place on Saturday\, February 15\, 2025 at the Hilton Midtown\, NYC (in-person).\nTOPIC\nSCIENCE AND ART: AN EXPANSIVE FEMINIST VIEW OF THE BODY\, THE MIND\, AND THE PHYSICAL WORLD\nChair: Anonda Bell (Rutgers\, The State University of New Jersey) \nThis Day of Panels is dedicated to feminist artists utilizing science-based art making techniques\, materials\, and concepts\, to explore ideas about humanity. Sci-artists have explored the physical sciences in topics such as health and disease\, motherhood\, robotics\, technology\, and AI\, as well as the social sciences with psychological topics including the women’s temperament\, and hysteria. Sci-artists have examined how humans exist within the greater environment\, exploring eco-art practices\, and imagining the natural world as a site for both resistance and inspiration. Feminist sci-artists have cross-examined stereotypical ideas about gendered sensibilities of care and nurturing\, whether within the family\, cultural and societal realms\, and the exploration of the body as a representation of humanity and identity\, including the dissection of tropes that accompany it. The connection between art and science is not strictly one of art being subjugated as a tool to merely illustrate scientific concepts (didactic representation of data). In this important Day of Panels\, artists will demonstrate how art may be used to visualize the unseen\, wrangle with the philosophy of science\, and how art may be used to explore and communicate transcendent ideas which may defy more conventional forms of articulation. \nThe Feminist Art Project seeks proposals for presentations that investigate these topics. Please include images that may be considered with your paper.\n*Participants should be available to attend the CAA conference in-person NYC in February.* \nPlease submit the following to tfap@nationalwca.org by July 31\, 2024:\n1. A clearly worded abstract no longer than 250 words. Please include your full name\, all contact information (phone\, email\, address\, etc)\, and affiliation. Subject line: “DOP Proposal – ____(last name)\n2. Image examples to accompany your proposal (3-5)\n3. Resume or cv
URL:https://thefeministartproject.org/event/tfapcaa-2025-call-for-proposals/
CATEGORIES:Call for Papers/Presentations
ATTACH;FMTTYPE=image/png:https://thefeministartproject.org/wp-content/uploads/2024/05/TFAP-DOP-CFP-2025-e1716495538821.png
END:VEVENT
END:VCALENDAR