BEGIN:VCALENDAR
VERSION:2.0
PRODID:-//The Feminist Art Project - ECPv6.15.20//NONSGML v1.0//EN
CALSCALE:GREGORIAN
METHOD:PUBLISH
X-WR-CALNAME:The Feminist Art Project
X-ORIGINAL-URL:https://thefeministartproject.org
X-WR-CALDESC:Events for The Feminist Art Project
REFRESH-INTERVAL;VALUE=DURATION:PT1H
X-Robots-Tag:noindex
X-PUBLISHED-TTL:PT1H
BEGIN:VTIMEZONE
TZID:America/New_York
BEGIN:DAYLIGHT
TZOFFSETFROM:-0500
TZOFFSETTO:-0400
TZNAME:EDT
DTSTART:20230312T070000
END:DAYLIGHT
BEGIN:STANDARD
TZOFFSETFROM:-0400
TZOFFSETTO:-0500
TZNAME:EST
DTSTART:20231105T060000
END:STANDARD
BEGIN:DAYLIGHT
TZOFFSETFROM:-0500
TZOFFSETTO:-0400
TZNAME:EDT
DTSTART:20240310T070000
END:DAYLIGHT
BEGIN:STANDARD
TZOFFSETFROM:-0400
TZOFFSETTO:-0500
TZNAME:EST
DTSTART:20241103T060000
END:STANDARD
BEGIN:DAYLIGHT
TZOFFSETFROM:-0500
TZOFFSETTO:-0400
TZNAME:EDT
DTSTART:20250309T070000
END:DAYLIGHT
BEGIN:STANDARD
TZOFFSETFROM:-0400
TZOFFSETTO:-0500
TZNAME:EST
DTSTART:20251102T060000
END:STANDARD
BEGIN:DAYLIGHT
TZOFFSETFROM:-0500
TZOFFSETTO:-0400
TZNAME:EDT
DTSTART:20260308T070000
END:DAYLIGHT
BEGIN:STANDARD
TZOFFSETFROM:-0400
TZOFFSETTO:-0500
TZNAME:EST
DTSTART:20261101T060000
END:STANDARD
END:VTIMEZONE
BEGIN:VTIMEZONE
TZID:America/Puerto_Rico
BEGIN:STANDARD
TZOFFSETFROM:-0400
TZOFFSETTO:-0400
TZNAME:AST
DTSTART:20230101T000000
END:STANDARD
END:VTIMEZONE
BEGIN:VEVENT
DTSTART;TZID=America/New_York:20250328T100000
DTEND;TZID=America/New_York:20250328T110000
DTSTAMP:20260421T073129
CREATED:20250308T151203Z
LAST-MODIFIED:20250308T151356Z
UID:10000793-1743156000-1743159600@thefeministartproject.org
SUMMARY:Virtual Program: Affrilachian Freedom Dreaming: Honoring Dr. Ancella Bickley
DESCRIPTION:West Virginia University (WVU) Art in the Libraries’ Inaugural WVU Feminist Activist Artist Residency program presents artist Catron Booker and her project\, “Affrilachian Freedom Dreaming: Honoring Dr. Ancella Bickley.”\nJoin Art in the Libraries and WVU Libraries on Friday\, March 28 at 10 a.m. via zoom to hear from Booker about her experience as the first WVU Feminist Activist Artist Resident\, her process and inspiration for exploring the Dr. Ancella Bickley archives in the West Virginia & Regional History Center and her resulting artistic product\, a short film honoring Bickley.\nCatron Booker\, a Black feminist experimental filmmaker and performance artist\, uses Afrofuturism to envision Black liberation. During the Feminist Activist Collection Artist in Residency (FAIR)\, she will create Affrilachian Freedom Dreaming\, a short experimental film exploring Black resistance through the Dr. Ancella Bickley archival collection of the West Virginia and Regional History Center Feminist Activist Collection. Dr. Ancella Bickley (born 1930\, Huntington\, WV) is a historian\, educator\, and author known for preserving and documenting the history of Black communities in West Virginia\, with a focus on oral histories\, genealogy\, and the contributions of overlooked Black scholars and activists. Inspired by Bickley’s focus on overlooked “community builders\,” Booker will interweave archival materials with footage of the Ohio River\, a historically significant landmark in Louisville. The project examines the river as both a visual metaphor and a site of historical continuity. As part of the residency\, she plans a film screening and community discussion\, potentially including a conversation on Bickley’s work.\nTo register: https://wvu.libcal.com/calendar/events/FAIR\nMore on the event: Art in the Libraries to host feminist activist artist to wrap inaugural residency program | Ex Libris Magazine | West Virginia University\nMore on Catron Booker: https://catronbooker.tumblr.com/\nMore on the Feminist Activist Artist in Residency Program: https://exhibits.lib.wvu.edu/special-projects/artist-in-residency\n\nQuestions: Email WVU Libraries Curator Sally Brown\, sally.brown1@mail.wvu.edu.
URL:https://thefeministartproject.org/event/virtual-program-affrilachian-freedom-dreaming-honoring-dr-ancella-bickley/
CATEGORIES:Artist Talk,Film Screening
ATTACH;FMTTYPE=image/png:https://thefeministartproject.org/wp-content/uploads/2025/03/FAIR-Resident-Pres_8-x-11-in-e1741446704325.png
ORGANIZER;CN="west virginia university libraries":MAILTO:sally.brown1@mail.wvu.edu
END:VEVENT
BEGIN:VEVENT
DTSTART;TZID=America/Puerto_Rico:20241017T190000
DTEND;TZID=America/Puerto_Rico:20250315T170000
DTSTAMP:20260421T073129
CREATED:20241019T132528Z
LAST-MODIFIED:20241024T193104Z
UID:10000393-1729191600-1742058000@thefeministartproject.org
SUMMARY:DIVERSE. Poetics of Nature.
DESCRIPTION:“Diverse. Poetics of Nature is an exhibition that reveals my enormous admiration and respect for nature\, for its intuitive and spontaneous frankness. In times when everything tends to be the result of a construction: images\, what we say\, perceptions… the only thing that remains real and true\, is nature.” \n Jeannette Betancourt
URL:https://thefeministartproject.org/event/diverse-poetics-of-nature/
LOCATION:Universidad Ana G. Méndez – Recinto de Gurabo\, 6XRV+Q6H\, Rio Grande Road\, Juncos\, Gurabo 00777\, Puerto Rico\, Gurabo\, Puerto Rico
CATEGORIES:Artist Talk,Exhibition
ATTACH;FMTTYPE=image/jpeg:https://thefeministartproject.org/wp-content/uploads/2024/10/jb-expo-e1729344321660.jpeg
ORGANIZER;CN="Museum of the Ana G. Mendez University":MAILTO:museo-gu@uagm.edu
END:VEVENT
BEGIN:VEVENT
DTSTART;TZID=America/New_York:20240405T160000
DTEND;TZID=America/New_York:20240405T183000
DTSTAMP:20260421T073129
CREATED:20240321T140938Z
LAST-MODIFIED:20240322T132544Z
UID:10000005-1712332800-1712341800@thefeministartproject.org
SUMMARY:Fuego:  Women set their world on fire
DESCRIPTION:On view 4/1/24 – 5/5/24 with opening reception and artist talks Friday\, April 5\, 2024 from 4:00 p.m. to 6:30 p.m. \nmosaicARTs and Debra Wright Studio have joined forces to commemorate the feminist art movement. These women artists ignited a spark that inspired them to create\, build\, and establish a supportive art community for others. The collaboration aims to acknowledge the significant contributions of female artists while promoting gender equality and empowerment for women. \nIn the United States\, 51% of living visual artists are women\, yet only 13.7% of them are represented in galleries. On average\, they earn 81 cents for every dollar made by their male contemporaries. \nApropos to the exhibition title as well as the feminist art movement\, Fuego is the Spanish word for “fire.”  Women artists have to kick down doors otherwise held wide open for men and\, when we do\, there is often backlash.  Yet these misogynistic efforts aimed at undermining us catalyze our solidarity\, instead. \nCurator Debra Wright incurred such wrath when an enraged male artist doused her artwork with lighter fluid and set it ablaze in retribution.  These actions intended to derail her backfired\, generating an outpouring of support from women artists everywhere that compelled Wright to focus her future efforts furthering feminist art initiatives.  Fuego is a continuation of this commitment. \nAs we acknowledge feminist artists of today\, we also pay testament to the perseverance of those who came before us.  These actions ensure our place in history.  We cannot allow ourselves to be absent from the cultural record. \nLighting the torch for each other\, we find our way together and inspiration ignites in each of us. \nWomen set the world on fire. \nImage: Debra Wright\, Moneyshot\, undergarment and currency\, 6 x 6 x 4 inches
URL:https://thefeministartproject.org/event/fuego-women-set-their-world-on-fire/
LOCATION:mosaicARTs Gallery\, 2931-B Eskridge Road\, Fairfax\, VA\, 22031\, United States
CATEGORIES:Artist Talk,Exhibition
ATTACH;FMTTYPE=image/webp:https://thefeministartproject.org/wp-content/uploads/2024/03/Wright_Debra_Moneyshot_undergarment_currency_6x6x4-inches_900-e1711113467477.webp
END:VEVENT
END:VCALENDAR